Workbook

Sheet Métré
A1: Kouassi & Fils BTP
A2: Cocody Riviera 3, Abidjan · Tél. +225 07 00 00 00 00
A3: RCCM CI-ABJ-2019-B-12345
A5: MÉTRÉ QUANTITATIF
A6: Projet : Villa Kouassi R+1 · Édité le 25/09/2026 avec BÉTONIQ PRO
A8: N° | B8: Désignation | C8: Repère | D8: Unité | E8: NPS | F8: Long. (m) | G8: Larg. (m) | H8: Haut. (m) | I8: Signe | J8: Quantité
A9: 1. Fondations
A10: 1.1 | B10: Béton de propreté | D10: m³
E11: 1 | F11: 14 | G11: 0.6 | H11: 0.05 | I11: compter | J11: =E11*IF(F11="",1,F11)*IF(G11="",1,G11)*IF(H11="",1,H11)*IF(I11="déduire",-1,1) -> 0.42
B12: Total Béton de propreté | D12: m³ | J12: =SUM(J11:J11) -> 0.42
A13: 1.2 | B13: Béton armé des semelles isolées | D13: m³
B14: Semelles isolées (atelier) | C14: S1 | E14: 6 | F14: 1.2 | G14: 1.2 | H14: 0.4 | I14: compter | J14: =E14*IF(F14="",1,F14)*IF(G14="",1,G14)*IF(H14="",1,H14)*IF(I14="déduire",-1,1) -> 3.456
B15: Semelles d'angle | C15: S2 | E15: 4 | F15: 1 | G15: 1 | H15: 0.35 | I15: compter | J15: =E15*IF(F15="",1,F15)*IF(G15="",1,G15)*IF(H15="",1,H15)*IF(I15="déduire",-1,1) -> 1.4
B16: Total Béton armé des semelles isolées | D16: m³ | J16: =SUM(J14:J15) -> 4.856
A17: 1.3 | B17: Maçonnerie de soubassement, agglos pleins 20×20×40 | D17: m²
E18: 1 | F18: 48 | H18: 0.6 | I18: compter | J18: =E18*IF(F18="",1,F18)*IF(G18="",1,G18)*IF(H18="",1,H18)*IF(I18="déduire",-1,1) -> 28.8
B19: Total Maçonnerie de soubassement, agglos pleins 20×20×40 | D19: m² | J19: =SUM(J18:J18) -> 28.8
A20: 2. Rez-de-chaussée
A21: 2.1 | B21: Poteaux en béton armé 25×25 | D21: m³
E22: 10 | F22: 0.25 | G22: 0.25 | H22: 3 | I22: compter | J22: =E22*IF(F22="",1,F22)*IF(G22="",1,G22)*IF(H22="",1,H22)*IF(I22="déduire",-1,1) -> 1.875
B23: Total Poteaux en béton armé 25×25 | D23: m³ | J23: =SUM(J22:J22) -> 1.875
A24: 2.2 | B24: Enduit intérieur, ép. 15 mm | D24: m²
E25: 1 | F25: 64 | H25: 2.8 | I25: compter | J25: =E25*IF(F25="",1,F25)*IF(G25="",1,G25)*IF(H25="",1,H25)*IF(I25="déduire",-1,1) -> 179.2
C26: Portes | E26: 6 | F26: 0.9 | H26: 2.1 | I26: déduire | J26: =E26*IF(F26="",1,F26)*IF(G26="",1,G26)*IF(H26="",1,H26)*IF(I26="déduire",-1,1) -> -11.34
B27: Total Enduit intérieur, ép. 15 mm | D27: m² | J27: =SUM(J25:J26) -> 167.86

Sheet Récapitulatif
A1: Kouassi & Fils BTP
A2: Cocody Riviera 3, Abidjan · Tél. +225 07 00 00 00 00
A3: RCCM CI-ABJ-2019-B-12345
A5: RÉCAPITULATIF DES QUANTITÉS PAR NIVEAU
A6: Projet : Villa Kouassi R+1 · Édité le 25/09/2026 avec BÉTONIQ PRO
A8: N° | B8: Désignation | C8: Unité | D8: Fondations | E8: Rez-de-chaussée | F8: Total
A9: 1 | B9: Béton de propreté | C9: m³ | D9: ='Métré'!J12 -> 0.42 | F9: =SUM(D9:E9) -> 0.42
A10: 2 | B10: Béton armé des semelles isolées | C10: m³ | D10: ='Métré'!J16 -> 4.856 | F10: =SUM(D10:E10) -> 4.856
A11: 3 | B11: Maçonnerie de soubassement, agglos pleins 20×20×40 | C11: m² | D11: ='Métré'!J19 -> 28.8 | F11: =SUM(D11:E11) -> 28.8
A12: 4 | B12: Poteaux en béton armé 25×25 | C12: m³ | E12: ='Métré'!J23 -> 1.875 | F12: =SUM(D12:E12) -> 1.875
A13: 5 | B13: Enduit intérieur, ép. 15 mm | C13: m² | E13: ='Métré'!J27 -> 167.86 | F13: =SUM(D13:E13) -> 167.86
